BEGIN:VCALENDAR
VERSION:2.0
PRODID:-//SATUMED - ECPv5.7.0//NONSGML v1.0//EN
CALSCALE:GREGORIAN
METHOD:PUBLISH
X-WR-CALNAME:SATUMED
X-ORIGINAL-URL:https://www.satumed.org
X-WR-CALDESC:SATUMED için etkinlikler
BEGIN:VTIMEZONE
TZID:Europe/Moscow
BEGIN:STANDARD
TZOFFSETFROM:+0300
TZOFFSETTO:+0300
TZNAME:MSK
DTSTART:20230101T000000
END:STANDARD
END:VTIMEZONE
BEGIN:VEVENT
DTSTART;TZID=Europe/Moscow:20231114T140000
DTEND;TZID=Europe/Moscow:20231114T153000
DTSTAMP:20260418T123419
CREATED:20231224T200959Z
LAST-MODIFIED:20231224T201738Z
UID:647-1699970400-1699975800@www.satumed.org
SUMMARY:Cumhuriyetin 100. Yılında Turizmde Kariyer
DESCRIPTION:Kariyer Turizm\, ülkemizin en gözde sektörü olan Turizm sektörünün en ciddi sorunu olan nitelikli personel sorununu çözmeye yönelik kurulmuş bir platformdur. Turizmde nitelikli personel istihdamına yönelik kurulan yazılımımız ile ilgili bölümlerde okumakta olan veya mezun durumda olan turizm öğrencilerin istihdam edebileceği işletmeler arasında talep ve iletişimi direk sağlamaktadır. \nPlatformu yalnızca ilgili bölüm öğrencileri / mezunları kullanabilecektir\, bu da diğer tüm programlardan bizi ayıran en önemli özelliktir\, işletmelerin bize ilgi duymasını sağlamaktadır. \nProjemiz\, turizm profesyonelleri tarafından yazılmış olup Tübitak onaylıdır. Kariyer Turizm\, Tübitak Marmara Teknokent firmasıdır. \nDernek üyemiz Ceylan Ergezen girişimciliğinde kurulmuş olan sitenin hayata geçmesi ile turizmde istihdam ve kariyer alanında gelişme sağlanacağı düşünülmektedir. Çabasından ötürü kendisini tebrik ederiz. \n 
URL:https://www.satumed.org/event/cumhuriyetin-100-yilinda-turizmde-kariyer/
LOCATION:Sakarya Üniversitesi Turizm Fakültesi Konferans Salonu
ATTACH;FMTTYPE=image/jpeg:https://www.satumed.org/wp-content/uploads/2023/12/satumed-etkinlik-02-ceylan-ergezen.jpg
END:VEVENT
END:VCALENDAR